BEGIN:VCALENDAR
VERSION:2.0
PRODID:-//StL Dental Sales - ECPv6.15.20//NONSGML v1.0//EN
CALSCALE:GREGORIAN
METHOD:PUBLISH
X-WR-CALNAME:StL Dental Sales
X-ORIGINAL-URL:https://stldentalsales.com
X-WR-CALDESC:Events for StL Dental Sales
REFRESH-INTERVAL;VALUE=DURATION:PT1H
X-Robots-Tag:noindex
X-PUBLISHED-TTL:PT1H
BEGIN:VTIMEZONE
TZID:America/Chicago
BEGIN:DAYLIGHT
TZOFFSETFROM:-0600
TZOFFSETTO:-0500
TZNAME:CDT
DTSTART:20240310T080000
END:DAYLIGHT
BEGIN:STANDARD
TZOFFSETFROM:-0500
TZOFFSETTO:-0600
TZNAME:CST
DTSTART:20241103T070000
END:STANDARD
BEGIN:DAYLIGHT
TZOFFSETFROM:-0600
TZOFFSETTO:-0500
TZNAME:CDT
DTSTART:20250309T080000
END:DAYLIGHT
BEGIN:STANDARD
TZOFFSETFROM:-0500
TZOFFSETTO:-0600
TZNAME:CST
DTSTART:20251102T070000
END:STANDARD
BEGIN:DAYLIGHT
TZOFFSETFROM:-0600
TZOFFSETTO:-0500
TZNAME:CDT
DTSTART:20260308T080000
END:DAYLIGHT
BEGIN:STANDARD
TZOFFSETFROM:-0500
TZOFFSETTO:-0600
TZNAME:CST
DTSTART:20261101T070000
END:STANDARD
END:VTIMEZONE
BEGIN:VEVENT
DTSTART;TZID=America/Chicago:20250306T180000
DTEND;TZID=America/Chicago:20250306T200000
DTSTAMP:20260422T044841
CREATED:20250130T180116Z
LAST-MODIFIED:20250217T183531Z
UID:1806-1741284000-1741291200@stldentalsales.com
SUMMARY:Trending Tech Dinner - Kirkwood
DESCRIPTION:Join Us for a Trending Tech Dinner! \n📅 Date: March 6th\n⏰ Time: 6:00 PM – 8:00 PM\n📍 Location: Napoli\, Kirkwood – 436 Kirkwood Rd\, St. Louis\, MO 63122 \nTopics Covered: \n\nPhotogrammetry / All on X\nFace Scanning\nCO2 Lasers\n\n  \nRSVP with Vince Sciore\n📞 (314) 800-8988\n📧 Vincent.Sciore@pattersondental.com
URL:https://stldentalsales.com/event/trending-tech-dinner/
LOCATION:Napoli\, Kirkwood\, 436 Kirkwood Rd.\, St. Louis\, MO\, 63122\, United States
ATTACH;FMTTYPE=image/png:https://stldentalsales.com/wp-content/uploads/2025/01/Trending-Tech-Dinner-March-6.png
END:VEVENT
END:VCALENDAR