BEGIN:VCALENDAR
VERSION:2.0
PRODID:-//StL Dental Sales - ECPv6.15.20//NONSGML v1.0//EN
CALSCALE:GREGORIAN
METHOD:PUBLISH
X-WR-CALNAME:StL Dental Sales
X-ORIGINAL-URL:https://stldentalsales.com
X-WR-CALDESC:Events for StL Dental Sales
REFRESH-INTERVAL;VALUE=DURATION:PT1H
X-Robots-Tag:noindex
X-PUBLISHED-TTL:PT1H
BEGIN:VTIMEZONE
TZID:America/Chicago
BEGIN:DAYLIGHT
TZOFFSETFROM:-0600
TZOFFSETTO:-0500
TZNAME:CDT
DTSTART:20240310T080000
END:DAYLIGHT
BEGIN:STANDARD
TZOFFSETFROM:-0500
TZOFFSETTO:-0600
TZNAME:CST
DTSTART:20241103T070000
END:STANDARD
BEGIN:DAYLIGHT
TZOFFSETFROM:-0600
TZOFFSETTO:-0500
TZNAME:CDT
DTSTART:20250309T080000
END:DAYLIGHT
BEGIN:STANDARD
TZOFFSETFROM:-0500
TZOFFSETTO:-0600
TZNAME:CST
DTSTART:20251102T070000
END:STANDARD
BEGIN:DAYLIGHT
TZOFFSETFROM:-0600
TZOFFSETTO:-0500
TZNAME:CDT
DTSTART:20260308T080000
END:DAYLIGHT
BEGIN:STANDARD
TZOFFSETFROM:-0500
TZOFFSETTO:-0600
TZNAME:CST
DTSTART:20261101T070000
END:STANDARD
END:VTIMEZONE
BEGIN:VEVENT
DTSTART;VALUE=DATE:20250620
DTEND;VALUE=DATE:20250621
DTSTAMP:20260420T032015
CREATED:20250404T151117Z
LAST-MODIFIED:20250404T151134Z
UID:1904-1750377600-1750463999@stldentalsales.com
SUMMARY:Nashville Day of Experts
DESCRIPTION:Details:\nFriday\, June 20\, 2025\nArrive Thursday\, June 19 – Depart Saturday\, June 21 \nLocation: A-dec Education and Training Center / Nashville\, TN \nTo register\, contact your Patterson or A-dec Representative \nDescription:\nConsidering expanding\, upgrading equipment\, or building a new location? \nJoin us to learn how to navigate improving your dental practice in today’s world by hearing from some of the dental industry’s leading experts in: \n\nAccounting\nDesign\nFinance\nReal estate\nConstruction\n\n  \nYou’ll also get hands-on time with A-dec’s latest equipment in their new\, state-of-the-art education and training center. Walk away with detailed answers to your questions and the confidence needed to invest in your practice and your future! \nSpeakers\nJason Drewelow – Primus Companies\nPrincipal and CEO of Primus Companies\, a national design-build firm that has completed over 1\,000 dental and medical office projects. Jason has led projects totaling more than $1.3 billion and brings expertise in strategic planning\, feasibility analysis\, acquisitions\, and project negotiations. \nDoug Sligting – Ascent Practice Growth Strategies\nFounder and CEO of Ascent\, with over 25 years in marketing\, including 14 years focused on the dental industry. Doug is committed to helping dentists thrive with performance-based marketing solutions. \nBank of America Practice Solutions\nExperts in dental practice financing including equipment purchases\, startups\, acquisitions\, remodeling\, expansions\, refinancing\, and real estate. Offering competitive rates and fixed terms to support your cash flow. \nKatie Kerschen – Kerschen Consulting\nPresident of Kerschen Consulting with over 20 years in the dental industry and 25+ years of business experience. Katie is a partner at ABQ Advanced Dental Care and brings extensive expertise in practice leadership and strategic growth. \nTo register\, contact your Patterson or A-dec Representative
URL:https://stldentalsales.com/event/nashville-day-of-experts/
LOCATION:A-dec Education and Training Center
ATTACH;FMTTYPE=image/jpeg:https://stldentalsales.com/wp-content/uploads/2025/04/nashville-tennessee-usa.jpg
END:VEVENT
END:VCALENDAR